BEGIN:VCALENDAR
VERSION:2.0
PRODID:-//Ahr-Automobil-Club 1924 e.V. - ECPv6.15.20//NONSGML v1.0//EN
CALSCALE:GREGORIAN
METHOD:PUBLISH
X-ORIGINAL-URL:https://aac-badneuenahr.de
X-WR-CALDESC:Veranstaltungen für Ahr-Automobil-Club 1924 e.V.
REFRESH-INTERVAL;VALUE=DURATION:PT1H
X-Robots-Tag:noindex
X-PUBLISHED-TTL:PT1H
BEGIN:VTIMEZONE
TZID:Europe/Berlin
BEGIN:DAYLIGHT
TZOFFSETFROM:+0100
TZOFFSETTO:+0200
TZNAME:CEST
DTSTART:20250330T010000
END:DAYLIGHT
BEGIN:STANDARD
TZOFFSETFROM:+0200
TZOFFSETTO:+0100
TZNAME:CET
DTSTART:20251026T010000
END:STANDARD
BEGIN:DAYLIGHT
TZOFFSETFROM:+0100
TZOFFSETTO:+0200
TZNAME:CEST
DTSTART:20260329T010000
END:DAYLIGHT
BEGIN:STANDARD
TZOFFSETFROM:+0200
TZOFFSETTO:+0100
TZNAME:CET
DTSTART:20261025T010000
END:STANDARD
BEGIN:DAYLIGHT
TZOFFSETFROM:+0100
TZOFFSETTO:+0200
TZNAME:CEST
DTSTART:20270328T010000
END:DAYLIGHT
BEGIN:STANDARD
TZOFFSETFROM:+0200
TZOFFSETTO:+0100
TZNAME:CET
DTSTART:20271031T010000
END:STANDARD
END:VTIMEZONE
BEGIN:VEVENT
DTSTART;TZID=Europe/Berlin:20260425T130000
DTEND;TZID=Europe/Berlin:20260425T130000
DTSTAMP:20260423T151350
CREATED:20251205T153946Z
LAST-MODIFIED:20260322T080933Z
UID:12252-1777122000-1777122000@aac-badneuenahr.de
SUMMARY:Vorbereitung Trial Show Nürburgring ab 13 Uhr
DESCRIPTION:
URL:https://aac-badneuenahr.de/veranstaltung/freies-trial-fahren-und-gelaendepflege-auf-dem-trial-spielplatz-niederzissen-von-10-bis-13-uhr/
CATEGORIES:Trial
END:VEVENT
BEGIN:VEVENT
DTSTART;TZID=Europe/Berlin:20260426T100000
DTEND;TZID=Europe/Berlin:20260426T143000
DTSTAMP:20260423T151350
CREATED:20260221T131738Z
LAST-MODIFIED:20260221T131849Z
UID:12547-1777197600-1777213800@aac-badneuenahr.de
SUMMARY:Trial Show beim Anlassen am Nürburgring
DESCRIPTION:
URL:https://aac-badneuenahr.de/veranstaltung/trial-show-beim-anlassen-am-nuerburgring/
CATEGORIES:Trial
END:VEVENT
END:VCALENDAR